BEGIN:VCALENDAR
VERSION:2.0
PRODID:-//kyohatsu//JP
CALSCALE:GREGORIAN
BEGIN:VEVENT
DTSTART;VALUE=DATE:20260930
SUMMARY:にじさんじ WORLD TOUR 2025 Singin’ in the Rainbow！東京公演(通常盤)【Blu-ray】
DESCRIPTION:月ノ美兎、家長むぎ、剣持刀也、伏見ガク、夕陽リリ、笹木咲、椎名唯華 ANYCOLOR(株)
UID:4573600263589@kyohatsu.lb-product.com
END:VEVENT
END:VCALENDAR
