BEGIN:VCALENDAR
VERSION:2.0
PRODID:-//kyohatsu//JP
CALSCALE:GREGORIAN
BEGIN:VEVENT
DTSTART;VALUE=DATE:20260515
SUMMARY:何も起きない夜日記
DESCRIPTION:月と文社 月と文社
UID:9784911191064@kyohatsu.lb-product.com
END:VEVENT
END:VCALENDAR
