BEGIN:VCALENDAR
VERSION:2.0
PRODID:-//kyohatsu//JP
CALSCALE:GREGORIAN
BEGIN:VEVENT
DTSTART;VALUE=DATE:20260624
SUMMARY:幻日夢
DESCRIPTION:曇ヶ原 Arcangelo
UID:4988044138421@kyohatsu.lb-product.com
END:VEVENT
END:VCALENDAR
