BEGIN:VCALENDAR
VERSION:2.0
PRODID:-//kyohatsu//JP
CALSCALE:GREGORIAN
BEGIN:VEVENT
DTSTART;VALUE=DATE:20260624
SUMMARY:【楽天ブックス限定先着特典】目を閉じても残る赤 (CD Only)(リボンキーホルダー)
DESCRIPTION:時速36km (株)ポニーキャニオン
UID:4524135298935@kyohatsu.lb-product.com
END:VEVENT
BEGIN:VEVENT
DTSTART;VALUE=DATE:20260624
SUMMARY:【楽天ブックス限定先着特典】目を閉じても残る赤 (CD＋Blu-ray)(リボンキーホルダー)
DESCRIPTION:時速36km 
UID:2100014962528@kyohatsu.lb-product.com
END:VEVENT
BEGIN:VEVENT
DTSTART;VALUE=DATE:20260624
SUMMARY:目を閉じても残る赤 (CD＋Blu-ray)
DESCRIPTION:時速36km (株)ポニーキャニオン
UID:4524135298928@kyohatsu.lb-product.com
END:VEVENT
END:VCALENDAR
