BEGIN:VCALENDAR
VERSION:2.0
PRODID:-//kyohatsu//JP
CALSCALE:GREGORIAN
BEGIN:VEVENT
DTSTART;VALUE=DATE:20260528
SUMMARY:箱の中の羊
DESCRIPTION:是枝　裕和 KADOKAWA
UID:9784048119689@kyohatsu.lb-product.com
END:VEVENT
END:VCALENDAR
