BEGIN:VCALENDAR
VERSION:2.0
PRODID:-//kyohatsu//JP
CALSCALE:GREGORIAN
BEGIN:VEVENT
DTSTART;VALUE=DATE:20260601
SUMMARY:ひつじ酒
DESCRIPTION:春風亭昇羊 つむぎ書房
UID:9784434372612@kyohatsu.lb-product.com
END:VEVENT
END:VCALENDAR
