BEGIN:VCALENDAR
VERSION:2.0
PRODID:-//kyohatsu//JP
CALSCALE:GREGORIAN
BEGIN:VEVENT
DTSTART;VALUE=DATE:20260507
SUMMARY:まくらの森の満開の下
DESCRIPTION:春風亭一之輔 朝日新聞出版
UID:9784022621283@kyohatsu.lb-product.com
END:VEVENT
END:VCALENDAR
