BEGIN:VCALENDAR
VERSION:2.0
PRODID:-//kyohatsu//JP
CALSCALE:GREGORIAN
BEGIN:VEVENT
DTSTART;VALUE=DATE:20260629
SUMMARY:あらくさ忍法帖 11
DESCRIPTION:春輝 白泉社
UID:9784592166894@kyohatsu.lb-product.com
END:VEVENT
END:VCALENDAR
