BEGIN:VCALENDAR
VERSION:2.0
PRODID:-//kyohatsu//JP
CALSCALE:GREGORIAN
BEGIN:VEVENT
DTSTART;VALUE=DATE:20260610
SUMMARY:Magic in the Dark-地下第九階書庫課の新人ー
DESCRIPTION:春森よしちか TOブックス
UID:9784868540236@kyohatsu.lb-product.com
END:VEVENT
END:VCALENDAR
