BEGIN:VCALENDAR
VERSION:2.0
PRODID:-//kyohatsu//JP
CALSCALE:GREGORIAN
BEGIN:VEVENT
DTSTART;VALUE=DATE:20260609
SUMMARY:MAXTOONAGER（2）
DESCRIPTION:星野 翼 講談社
UID:9784065437506@kyohatsu.lb-product.com
END:VEVENT
END:VCALENDAR
