BEGIN:VCALENDAR
VERSION:2.0
PRODID:-//kyohatsu//JP
CALSCALE:GREGORIAN
BEGIN:VEVENT
DTSTART;VALUE=DATE:20260617
SUMMARY:【楽天ブックス限定先着特典】Hoshimachi Suisei Live Tour 2024 “Spectra of Nova” Blu-ray 通常盤（埼玉公演）【Blu-ray】(品目未定)
DESCRIPTION:星街すいせい カバー(株)
UID:2100014878768@kyohatsu.lb-product.com
END:VEVENT
BEGIN:VEVENT
DTSTART;VALUE=DATE:20260617
SUMMARY:Hoshimachi Suisei 日本武道館 Live “SuperNova” 通常盤【Blu-ray】
DESCRIPTION:星街すいせい カバー(株)
UID:4580883392585@kyohatsu.lb-product.com
END:VEVENT
BEGIN:VEVENT
DTSTART;VALUE=DATE:20260617
SUMMARY:Hoshimachi Suisei Live Tour 2024 “Spectra of Nova” Blu-ray 通常盤（埼玉公演）【Blu-ray】
DESCRIPTION:星街すいせい カバー(株)
UID:4580883392578@kyohatsu.lb-product.com
END:VEVENT
BEGIN:VEVENT
DTSTART;VALUE=DATE:20260617
SUMMARY:【楽天ブックス限定先着特典】Hoshimachi Suisei 日本武道館 Live “SuperNova” 通常盤【Blu-ray】(品目未定)
DESCRIPTION:星街すいせい カバー(株)
UID:2100014878775@kyohatsu.lb-product.com
END:VEVENT
END:VCALENDAR
