BEGIN:VCALENDAR
VERSION:2.0
PRODID:-//kyohatsu//JP
CALSCALE:GREGORIAN
BEGIN:VEVENT
DTSTART;VALUE=DATE:20260703
SUMMARY:どうか君に暴かれたい　（3）
DESCRIPTION:星樹　スズカ KADOKAWA
UID:9784041175927@kyohatsu.lb-product.com
END:VEVENT
END:VCALENDAR
