BEGIN:VCALENDAR
VERSION:2.0
PRODID:-//kyohatsu//JP
CALSCALE:GREGORIAN
BEGIN:VEVENT
DTSTART;VALUE=DATE:20260428
SUMMARY:シャアル 戦争という名の悪魔
DESCRIPTION:星々三日月 幻冬舎
UID:9784344698970@kyohatsu.lb-product.com
END:VEVENT
END:VCALENDAR
