BEGIN:VCALENDAR
VERSION:2.0
PRODID:-//kyohatsu//JP
CALSCALE:GREGORIAN
BEGIN:VEVENT
DTSTART;VALUE=DATE:20260722
SUMMARY:【楽天ブックス限定先着特典】明くる夜の羊 Major 1st EP「タイトル未定」【初回限定盤 CD＋Blu-ray】(ポストカード)
DESCRIPTION:明くる夜の羊 (株)バンダイナムコミュージックライブ
UID:2100014860541@kyohatsu.lb-product.com
END:VEVENT
BEGIN:VEVENT
DTSTART;VALUE=DATE:20260722
SUMMARY:【楽天ブックス限定先着特典】明くる夜の羊 Major 1st EP「タイトル未定」【通常盤】(ポストカード)
DESCRIPTION:明くる夜の羊 (株)バンダイナムコミュージックライブ
UID:4540774650217@kyohatsu.lb-product.com
END:VEVENT
BEGIN:VEVENT
DTSTART;VALUE=DATE:20260722
SUMMARY:明くる夜の羊 Major 1st EP「タイトル未定」【初回限定盤 CD＋Blu-ray】
DESCRIPTION:明くる夜の羊 (株)バンダイナムコミュージックライブ
UID:4540774650194@kyohatsu.lb-product.com
END:VEVENT
END:VCALENDAR
