BEGIN:VCALENDAR
VERSION:2.0
PRODID:-//kyohatsu//JP
CALSCALE:GREGORIAN
BEGIN:VEVENT
DTSTART;VALUE=DATE:20260501
SUMMARY:悪役の王女に転生したけど、隠しキャラが隠れてない。10
DESCRIPTION:早瀬黒絵 TOブックス
UID:9784867949894@kyohatsu.lb-product.com
END:VEVENT
END:VCALENDAR
