BEGIN:VCALENDAR
VERSION:2.0
PRODID:-//kyohatsu//JP
CALSCALE:GREGORIAN
BEGIN:VEVENT
DTSTART;VALUE=DATE:20260609
SUMMARY:教科書が教えない大切な戦争の話 - 日本人として知っておくべき大切な歴史 -
DESCRIPTION:早坂 隆 ワニプラス
UID:9784847062469@kyohatsu.lb-product.com
END:VEVENT
END:VCALENDAR
