BEGIN:VCALENDAR
VERSION:2.0
PRODID:-//kyohatsu//JP
CALSCALE:GREGORIAN
BEGIN:VEVENT
DTSTART;VALUE=DATE:20260619
SUMMARY:天使1／2方程式 おまけまんが小冊子5付き特装版 13
DESCRIPTION:日高 万里 白泉社
UID:9784592231318@kyohatsu.lb-product.com
END:VEVENT
BEGIN:VEVENT
DTSTART;VALUE=DATE:20260619
SUMMARY:天使1／2方程式 13
DESCRIPTION:日高 万里 白泉社
UID:9784592225850@kyohatsu.lb-product.com
END:VEVENT
END:VCALENDAR
