BEGIN:VCALENDAR
VERSION:2.0
PRODID:-//kyohatsu//JP
CALSCALE:GREGORIAN
BEGIN:VEVENT
DTSTART;VALUE=DATE:20260626
SUMMARY:日野晃の武道身体を極める「全身連動」編
DESCRIPTION:日野晃 
UID:4571336940972@kyohatsu.lb-product.com
END:VEVENT
END:VCALENDAR
