BEGIN:VCALENDAR
VERSION:2.0
PRODID:-//kyohatsu//JP
CALSCALE:GREGORIAN
BEGIN:VEVENT
DTSTART;VALUE=DATE:20260601
SUMMARY:聖女さまは取り替え子@COMIC 第2巻
DESCRIPTION:日達朔 TOブックス
UID:9784868540106@kyohatsu.lb-product.com
END:VEVENT
END:VCALENDAR
