BEGIN:VCALENDAR
VERSION:2.0
PRODID:-//kyohatsu//JP
CALSCALE:GREGORIAN
BEGIN:VEVENT
DTSTART;VALUE=DATE:20260612
SUMMARY:頼くんとヨリを戻すわけには！（3）
DESCRIPTION:旗谷 澄生 講談社
UID:9784065438565@kyohatsu.lb-product.com
END:VEVENT
END:VCALENDAR
