BEGIN:VCALENDAR
VERSION:2.0
PRODID:-//kyohatsu//JP
CALSCALE:GREGORIAN
BEGIN:VEVENT
DTSTART;VALUE=DATE:20260722
SUMMARY:New Beginning（追撃盤：ウルトラマン盤）
DESCRIPTION:新浜レオン (株)B ZONE
UID:4580740638764@kyohatsu.lb-product.com
END:VEVENT
BEGIN:VEVENT
DTSTART;VALUE=DATE:20260722
SUMMARY:New Beginning（追撃盤：燃えたぎレオン盤）
DESCRIPTION:新浜レオン (株)B ZONE
UID:4580740638726@kyohatsu.lb-product.com
END:VEVENT
BEGIN:VEVENT
DTSTART;VALUE=DATE:20260722
SUMMARY:New Beginning（追撃盤：愛溢レオン盤）
DESCRIPTION:新浜レオン (株)B ZONE
UID:4580740638733@kyohatsu.lb-product.com
END:VEVENT
BEGIN:VEVENT
DTSTART;VALUE=DATE:20260722
SUMMARY:New Beginning（追撃盤：心満たさレオン盤）
DESCRIPTION:新浜レオン (株)B ZONE
UID:4580740638740@kyohatsu.lb-product.com
END:VEVENT
BEGIN:VEVENT
DTSTART;VALUE=DATE:20260722
SUMMARY:New Beginning（追撃盤：タイアップ盤）
DESCRIPTION:新浜レオン (株)B ZONE
UID:4580740638757@kyohatsu.lb-product.com
END:VEVENT
END:VCALENDAR
