BEGIN:VCALENDAR
VERSION:2.0
PRODID:-//kyohatsu//JP
CALSCALE:GREGORIAN
BEGIN:VEVENT
DTSTART;VALUE=DATE:20260527
SUMMARY:あなたの部屋/夜更けのグラス
DESCRIPTION:新川めぐみ 日本クラウン(株)
UID:4988007329125@kyohatsu.lb-product.com
END:VEVENT
END:VCALENDAR
