BEGIN:VCALENDAR
VERSION:2.0
PRODID:-//kyohatsu//JP
CALSCALE:GREGORIAN
BEGIN:VEVENT
DTSTART;VALUE=DATE:20260617
SUMMARY:盤上のオリオン（10）
DESCRIPTION:新川 直司 講談社
UID:9784065438855@kyohatsu.lb-product.com
END:VEVENT
END:VCALENDAR
