BEGIN:VCALENDAR
VERSION:2.0
PRODID:-//kyohatsu//JP
CALSCALE:GREGORIAN
BEGIN:VEVENT
DTSTART;VALUE=DATE:20260529
SUMMARY:白銀のキュイジーヌ〜明治外交官の料理人〜（2）
DESCRIPTION:新島 なるい 講談社
UID:9784065430071@kyohatsu.lb-product.com
END:VEVENT
END:VCALENDAR
