BEGIN:VCALENDAR
VERSION:2.0
PRODID:-//kyohatsu//JP
CALSCALE:GREGORIAN
BEGIN:VEVENT
DTSTART;VALUE=DATE:20260515
SUMMARY:75歳の大冒険
DESCRIPTION:斎藤真吉 三栄
UID:9784779654541@kyohatsu.lb-product.com
END:VEVENT
END:VCALENDAR
