BEGIN:VCALENDAR
VERSION:2.0
PRODID:-//kyohatsu//JP
CALSCALE:GREGORIAN
BEGIN:VEVENT
DTSTART;VALUE=DATE:20260529
SUMMARY:BEM
DESCRIPTION:斎藤　潤一郎 リイド社
UID:9784845871377@kyohatsu.lb-product.com
END:VEVENT
END:VCALENDAR
