BEGIN:VCALENDAR
VERSION:2.0
PRODID:-//kyohatsu//JP
CALSCALE:GREGORIAN
BEGIN:VEVENT
DTSTART;VALUE=DATE:20260603
SUMMARY:斉藤壮馬 Live 2025 “Nuance Colors” in Yokohama(通常盤)【Blu-ray】
DESCRIPTION:斉藤壮馬 (株)ソニー・ミュージックレーベルズ
UID:4547366813579@kyohatsu.lb-product.com
END:VEVENT
BEGIN:VEVENT
DTSTART;VALUE=DATE:20260603
SUMMARY:【楽天ブックス限定先着特典】斉藤壮馬 Live 2025 “Nuance Colors” in Yokohama(通常盤)【Blu-ray】(オリジナルブロマイド(楽天ブックス絵柄))
DESCRIPTION:斉藤壮馬 (株)ソニー・ミュージックレーベルズ
UID:2100014951058@kyohatsu.lb-product.com
END:VEVENT
BEGIN:VEVENT
DTSTART;VALUE=DATE:20260603
SUMMARY:【楽天ブックス限定先着特典】斉藤壮馬 Live 2025 “Nuance Colors” in Yokohama(完全生産限定盤)【Blu-ray】(オリジナルブロマイド(楽天ブックス絵柄))
DESCRIPTION:斉藤壮馬 (株)ソニー・ミュージックレーベルズ
UID:2100014951041@kyohatsu.lb-product.com
END:VEVENT
BEGIN:VEVENT
DTSTART;VALUE=DATE:20260603
SUMMARY:斉藤壮馬 Live 2025 “Nuance Colors” in Yokohama(完全生産限定盤)【Blu-ray】
DESCRIPTION:斉藤壮馬 (株)ソニー・ミュージックレーベルズ
UID:4547366813562@kyohatsu.lb-product.com
END:VEVENT
END:VCALENDAR
