BEGIN:VCALENDAR
VERSION:2.0
PRODID:-//kyohatsu//JP
CALSCALE:GREGORIAN
BEGIN:VEVENT
DTSTART;VALUE=DATE:20260605
SUMMARY:環境省武装機動隊
DESCRIPTION:斉藤　詠一 実業之日本社
UID:9784408560175@kyohatsu.lb-product.com
END:VEVENT
END:VCALENDAR
