BEGIN:VCALENDAR
VERSION:2.0
PRODID:-//kyohatsu//JP
CALSCALE:GREGORIAN
BEGIN:VEVENT
DTSTART;VALUE=DATE:20260428
SUMMARY:海を吸う／庭に接ぐ
DESCRIPTION:才谷 景 河出書房新社
UID:9784309032641@kyohatsu.lb-product.com
END:VEVENT
END:VCALENDAR
