BEGIN:VCALENDAR
VERSION:2.0
PRODID:-//kyohatsu//JP
CALSCALE:GREGORIAN
BEGIN:VEVENT
DTSTART;VALUE=DATE:20260612
SUMMARY:ヴァージン・キラー忍法帖 1
DESCRIPTION:成田芋虫 マッグガーデン
UID:9784800017680@kyohatsu.lb-product.com
END:VEVENT
END:VCALENDAR
