BEGIN:VCALENDAR
VERSION:2.0
PRODID:-//kyohatsu//JP
CALSCALE:GREGORIAN
BEGIN:VEVENT
DTSTART;VALUE=DATE:20260604
SUMMARY:無敵のスバル 1
DESCRIPTION:成田 成哲 集英社
UID:9784088851730@kyohatsu.lb-product.com
END:VEVENT
END:VCALENDAR
