BEGIN:VCALENDAR
VERSION:2.0
PRODID:-//kyohatsu//JP
CALSCALE:GREGORIAN
BEGIN:VEVENT
DTSTART;VALUE=DATE:20260501
SUMMARY:由良の門を
DESCRIPTION:成井歌子 文芸社
UID:9784286276557@kyohatsu.lb-product.com
END:VEVENT
END:VCALENDAR
