BEGIN:VCALENDAR
VERSION:2.0
PRODID:-//kyohatsu//JP
CALSCALE:GREGORIAN
BEGIN:VEVENT
DTSTART;VALUE=DATE:20260527
SUMMARY:ブラバン!名電 2026
DESCRIPTION:愛知工業大学名電高等学校吹奏楽部 (株)ソニー・ミュージックレーベルズ
UID:4547366814132@kyohatsu.lb-product.com
END:VEVENT
END:VCALENDAR
