BEGIN:VCALENDAR
VERSION:2.0
PRODID:-//kyohatsu//JP
CALSCALE:GREGORIAN
BEGIN:VEVENT
DTSTART;VALUE=DATE:20260610
SUMMARY:スナック愛沙子 開店です。【アナログ盤】
DESCRIPTION:愛沙子&裕次郎 Ground Zero Entertainment
UID:4595432655011@kyohatsu.lb-product.com
END:VEVENT
END:VCALENDAR
