BEGIN:VCALENDAR
VERSION:2.0
PRODID:-//kyohatsu//JP
CALSCALE:GREGORIAN
BEGIN:VEVENT
DTSTART;VALUE=DATE:20260710
SUMMARY:祖父母をたずねて家出兄弟二人旅@COMIC 第1巻
DESCRIPTION:徳野ばあば TOブックス
UID:9784868540434@kyohatsu.lb-product.com
END:VEVENT
END:VCALENDAR
