BEGIN:VCALENDAR
VERSION:2.0
PRODID:-//kyohatsu//JP
CALSCALE:GREGORIAN
BEGIN:VEVENT
DTSTART;VALUE=DATE:20260602
SUMMARY:星の味 輝くコトバを旅する
DESCRIPTION:徳井いつこ 地湧社
UID:9784885032714@kyohatsu.lb-product.com
END:VEVENT
END:VCALENDAR
