BEGIN:VCALENDAR
VERSION:2.0
PRODID:-//kyohatsu//JP
CALSCALE:GREGORIAN
BEGIN:VEVENT
DTSTART;VALUE=DATE:20260528
SUMMARY:愛しすぎる新妻（3）
DESCRIPTION:御雲　推 ヒーローズ
UID:9784868051831@kyohatsu.lb-product.com
END:VEVENT
END:VCALENDAR
