BEGIN:VCALENDAR
VERSION:2.0
PRODID:-//kyohatsu//JP
CALSCALE:GREGORIAN
BEGIN:VEVENT
DTSTART;VALUE=DATE:20260609
SUMMARY:束の間
DESCRIPTION:御園生夢美 パレード
UID:9784434375668@kyohatsu.lb-product.com
END:VEVENT
END:VCALENDAR
