BEGIN:VCALENDAR
VERSION:2.0
PRODID:-//kyohatsu//JP
CALSCALE:GREGORIAN
BEGIN:VEVENT
DTSTART;VALUE=DATE:20260610
SUMMARY:日本テレビ系土曜ドラマ「タツキ先生は甘すぎる!」オリジナル・サウンドトラック
DESCRIPTION:得田真裕 (株)バップ
UID:4988021873352@kyohatsu.lb-product.com
END:VEVENT
END:VCALENDAR
