BEGIN:VCALENDAR
VERSION:2.0
PRODID:-//kyohatsu//JP
CALSCALE:GREGORIAN
BEGIN:VEVENT
DTSTART;VALUE=DATE:20260604
SUMMARY:天傍台閣 5
DESCRIPTION:弓庭 史路 集英社
UID:9784088851112@kyohatsu.lb-product.com
END:VEVENT
END:VCALENDAR
