BEGIN:VCALENDAR
VERSION:2.0
PRODID:-//kyohatsu//JP
CALSCALE:GREGORIAN
BEGIN:VEVENT
DTSTART;VALUE=DATE:20260623
SUMMARY:ナースの取扱説明書（トリセツ）（2）
DESCRIPTION:座紀 光倫 講談社
UID:9784065437445@kyohatsu.lb-product.com
END:VEVENT
END:VCALENDAR
