BEGIN:VCALENDAR
VERSION:2.0
PRODID:-//kyohatsu//JP
CALSCALE:GREGORIAN
BEGIN:VEVENT
DTSTART;VALUE=DATE:20260514
SUMMARY:みつけたよ　よろしくね！
DESCRIPTION:広瀬　克也 実業之日本社
UID:9784408652061@kyohatsu.lb-product.com
END:VEVENT
END:VCALENDAR
