BEGIN:VCALENDAR
VERSION:2.0
PRODID:-//kyohatsu//JP
CALSCALE:GREGORIAN
BEGIN:VEVENT
DTSTART;VALUE=DATE:20260526
SUMMARY:ヤンキー、推しと運命と出会う（4）
DESCRIPTION:広瀬 りさ 小学館
UID:9784091795120@kyohatsu.lb-product.com
END:VEVENT
END:VCALENDAR
