BEGIN:VCALENDAR
VERSION:2.0
PRODID:-//kyohatsu//JP
CALSCALE:GREGORIAN
BEGIN:VEVENT
DTSTART;VALUE=DATE:20260601
SUMMARY:ぬいの直し屋　1
DESCRIPTION:幌琴似 芳文社
UID:9784832206250@kyohatsu.lb-product.com
END:VEVENT
END:VCALENDAR
