BEGIN:VCALENDAR
VERSION:2.0
PRODID:-//kyohatsu//JP
CALSCALE:GREGORIAN
BEGIN:VEVENT
DTSTART;VALUE=DATE:20260428
SUMMARY:生活という名の愛おしい試練
DESCRIPTION:帆坂　悠 KADOKAWA
UID:9784046078377@kyohatsu.lb-product.com
END:VEVENT
END:VCALENDAR
