BEGIN:VCALENDAR
VERSION:2.0
PRODID:-//kyohatsu//JP
CALSCALE:GREGORIAN
BEGIN:VEVENT
DTSTART;VALUE=DATE:20260528
SUMMARY:傷だらけの鬼神とうつわの乙女（仮）
DESCRIPTION:巻村螢 スターツ出版
UID:9784813719359@kyohatsu.lb-product.com
END:VEVENT
END:VCALENDAR
