BEGIN:VCALENDAR
VERSION:2.0
PRODID:-//kyohatsu//JP
CALSCALE:GREGORIAN
BEGIN:VEVENT
DTSTART;VALUE=DATE:20260522
SUMMARY:ミコトとレイ（1）
DESCRIPTION:工藤　える KADOKAWA
UID:9784046600967@kyohatsu.lb-product.com
END:VEVENT
END:VCALENDAR
