BEGIN:VCALENDAR
VERSION:2.0
PRODID:-//kyohatsu//JP
CALSCALE:GREGORIAN
BEGIN:VEVENT
DTSTART;VALUE=DATE:20260630
SUMMARY:川路重之作品選集
DESCRIPTION:川路 重之 文藝春秋
UID:9784160090897@kyohatsu.lb-product.com
END:VEVENT
END:VCALENDAR
