BEGIN:VCALENDAR
VERSION:2.0
PRODID:-//kyohatsu//JP
CALSCALE:GREGORIAN
BEGIN:VEVENT
DTSTART;VALUE=DATE:20260527
SUMMARY:ビューティフルワースト
DESCRIPTION:川瀬七緒 光文社
UID:9784334109837@kyohatsu.lb-product.com
END:VEVENT
END:VCALENDAR
