BEGIN:VCALENDAR
VERSION:2.0
PRODID:-//kyohatsu//JP
CALSCALE:GREGORIAN
BEGIN:VEVENT
DTSTART;VALUE=DATE:20260604
SUMMARY:鵺の陰陽師 15
DESCRIPTION:川江 康太 集英社
UID:9784088850993@kyohatsu.lb-product.com
END:VEVENT
END:VCALENDAR
